BEGIN:VCALENDAR
VERSION:2.0
PRODID:-//SV OCHOLT-HOWIEK - ECPv6.15.17//NONSGML v1.0//EN
CALSCALE:GREGORIAN
METHOD:PUBLISH
X-WR-CALNAME:SV OCHOLT-HOWIEK
X-ORIGINAL-URL:https://sv-ocholt-howiek.de
X-WR-CALDESC:Veranstaltungen für SV OCHOLT-HOWIEK
REFRESH-INTERVAL;VALUE=DURATION:PT1H
X-Robots-Tag:noindex
X-PUBLISHED-TTL:PT1H
BEGIN:VTIMEZONE
TZID:Europe/Berlin
BEGIN:DAYLIGHT
TZOFFSETFROM:+0100
TZOFFSETTO:+0200
TZNAME:CEST
DTSTART:20220327T010000
END:DAYLIGHT
BEGIN:STANDARD
TZOFFSETFROM:+0200
TZOFFSETTO:+0100
TZNAME:CET
DTSTART:20221030T010000
END:STANDARD
BEGIN:DAYLIGHT
TZOFFSETFROM:+0100
TZOFFSETTO:+0200
TZNAME:CEST
DTSTART:20230326T010000
END:DAYLIGHT
BEGIN:STANDARD
TZOFFSETFROM:+0200
TZOFFSETTO:+0100
TZNAME:CET
DTSTART:20231029T010000
END:STANDARD
BEGIN:DAYLIGHT
TZOFFSETFROM:+0100
TZOFFSETTO:+0200
TZNAME:CEST
DTSTART:20240331T010000
END:DAYLIGHT
BEGIN:STANDARD
TZOFFSETFROM:+0200
TZOFFSETTO:+0100
TZNAME:CET
DTSTART:20241027T010000
END:STANDARD
END:VTIMEZONE
BEGIN:VEVENT
DTSTART;VALUE=DATE:20231119
DTEND;VALUE=DATE:20231120
DTSTAMP:20260419T180140
CREATED:20230422T183651Z
LAST-MODIFIED:20230422T183651Z
UID:3128-1700352000-1700438399@sv-ocholt-howiek.de
SUMMARY:Kranzniederlegung am Ehrenmal (Volkstrauertag)
DESCRIPTION:
URL:https://sv-ocholt-howiek.de/event/kranzniederlegung-am-ehrenmal-volkstrauertag-3/
END:VEVENT
BEGIN:VEVENT
DTSTART;TZID=Europe/Berlin:20231124T180000
DTEND;TZID=Europe/Berlin:20231124T180000
DTSTAMP:20260419T180140
CREATED:20230422T183737Z
LAST-MODIFIED:20231116T190436Z
UID:3130-1700848800-1700848800@sv-ocholt-howiek.de
SUMMARY:Freundschaftswettkampf gegen Godensholt in Ocholt
DESCRIPTION:ab 18:00 Uhr Jugend \nab 19:30 Uhr Erwachsene
URL:https://sv-ocholt-howiek.de/event/freundschaftswettkampf-gegen-godensholt-in-ocholt-5/
END:VEVENT
END:VCALENDAR