BEGIN:VCALENDAR
VERSION:2.0
PRODID:-//SV OCHOLT-HOWIEK - ECPv6.15.17//NONSGML v1.0//EN
CALSCALE:GREGORIAN
METHOD:PUBLISH
X-WR-CALNAME:SV OCHOLT-HOWIEK
X-ORIGINAL-URL:https://sv-ocholt-howiek.de
X-WR-CALDESC:Veranstaltungen für SV OCHOLT-HOWIEK
REFRESH-INTERVAL;VALUE=DURATION:PT1H
X-Robots-Tag:noindex
X-PUBLISHED-TTL:PT1H
BEGIN:VTIMEZONE
TZID:Europe/Berlin
BEGIN:DAYLIGHT
TZOFFSETFROM:+0100
TZOFFSETTO:+0200
TZNAME:CEST
DTSTART:20220327T010000
END:DAYLIGHT
BEGIN:STANDARD
TZOFFSETFROM:+0200
TZOFFSETTO:+0100
TZNAME:CET
DTSTART:20221030T010000
END:STANDARD
BEGIN:DAYLIGHT
TZOFFSETFROM:+0100
TZOFFSETTO:+0200
TZNAME:CEST
DTSTART:20230326T010000
END:DAYLIGHT
BEGIN:STANDARD
TZOFFSETFROM:+0200
TZOFFSETTO:+0100
TZNAME:CET
DTSTART:20231029T010000
END:STANDARD
BEGIN:DAYLIGHT
TZOFFSETFROM:+0100
TZOFFSETTO:+0200
TZNAME:CEST
DTSTART:20240331T010000
END:DAYLIGHT
BEGIN:STANDARD
TZOFFSETFROM:+0200
TZOFFSETTO:+0100
TZNAME:CET
DTSTART:20241027T010000
END:STANDARD
END:VTIMEZONE
BEGIN:VEVENT
DTSTART;VALUE=DATE:20230918
DTEND;VALUE=DATE:20231016
DTSTAMP:20260419T193726
CREATED:20230802T174839Z
LAST-MODIFIED:20230802T174839Z
UID:3175-1694995200-1697414399@sv-ocholt-howiek.de
SUMMARY:Vereinsmeisterschaften an den Übungsabenden
DESCRIPTION:
URL:https://sv-ocholt-howiek.de/event/vereinsmeisterschaften-an-den-uebungsabenden/
LOCATION:Schießhalle in Howiek\, Howieker Ring 43 a\, Ocholt-Howiek\, 26655\, Deutschland
END:VEVENT
BEGIN:VEVENT
DTSTART;TZID=Europe/Berlin:20231008T110000
DTEND;TZID=Europe/Berlin:20231008T150000
DTSTAMP:20260419T193726
CREATED:20230802T174656Z
LAST-MODIFIED:20230802T174926Z
UID:3173-1696762800-1696777200@sv-ocholt-howiek.de
SUMMARY:Vereinsschießen inkl. Abgrillen
DESCRIPTION:
URL:https://sv-ocholt-howiek.de/event/vereinsschiessen-3/
LOCATION:Schießhalle in Howiek\, Howieker Ring 43 a\, Ocholt-Howiek\, 26655\, Deutschland
END:VEVENT
BEGIN:VEVENT
DTSTART;VALUE=DATE:20231015
DTEND;VALUE=DATE:20231016
DTSTAMP:20260419T193726
CREATED:20230422T183609Z
LAST-MODIFIED:20230422T183609Z
UID:3126-1697328000-1697414399@sv-ocholt-howiek.de
SUMMARY:Stadtgemeindewettkampf in Halsbek
DESCRIPTION:
URL:https://sv-ocholt-howiek.de/event/stadtgemeindewettkampf-in-halsbek-3/
END:VEVENT
BEGIN:VEVENT
DTSTART;VALUE=DATE:20231021
DTEND;VALUE=DATE:20231022
DTSTAMP:20260419T193726
CREATED:20230216T182131Z
LAST-MODIFIED:20230216T182131Z
UID:3006-1697846400-1697932799@sv-ocholt-howiek.de
SUMMARY:Bundeskönigsball in der WEH
DESCRIPTION:
URL:https://sv-ocholt-howiek.de/event/bundeskoenigsball-in-der-weh/
LOCATION:Weser-Ems-Halle Oldenburg\, Europapl. 12\, Oldenburg\, 26123\, Deutschland
END:VEVENT
END:VCALENDAR