BEGIN:VCALENDAR
VERSION:2.0
PRODID:-//SV OCHOLT-HOWIEK - ECPv6.15.17//NONSGML v1.0//EN
CALSCALE:GREGORIAN
METHOD:PUBLISH
X-WR-CALNAME:SV OCHOLT-HOWIEK
X-ORIGINAL-URL:https://sv-ocholt-howiek.de
X-WR-CALDESC:Veranstaltungen für SV OCHOLT-HOWIEK
REFRESH-INTERVAL;VALUE=DURATION:PT1H
X-Robots-Tag:noindex
X-PUBLISHED-TTL:PT1H
BEGIN:VTIMEZONE
TZID:Europe/Berlin
BEGIN:DAYLIGHT
TZOFFSETFROM:+0100
TZOFFSETTO:+0200
TZNAME:CEST
DTSTART:20220327T010000
END:DAYLIGHT
BEGIN:STANDARD
TZOFFSETFROM:+0200
TZOFFSETTO:+0100
TZNAME:CET
DTSTART:20221030T010000
END:STANDARD
BEGIN:DAYLIGHT
TZOFFSETFROM:+0100
TZOFFSETTO:+0200
TZNAME:CEST
DTSTART:20230326T010000
END:DAYLIGHT
BEGIN:STANDARD
TZOFFSETFROM:+0200
TZOFFSETTO:+0100
TZNAME:CET
DTSTART:20231029T010000
END:STANDARD
BEGIN:DAYLIGHT
TZOFFSETFROM:+0100
TZOFFSETTO:+0200
TZNAME:CEST
DTSTART:20240331T010000
END:DAYLIGHT
BEGIN:STANDARD
TZOFFSETFROM:+0200
TZOFFSETTO:+0100
TZNAME:CET
DTSTART:20241027T010000
END:STANDARD
END:VTIMEZONE
BEGIN:VEVENT
DTSTART;VALUE=DATE:20230701
DTEND;VALUE=DATE:20230702
DTSTAMP:20260420T001653
CREATED:20230422T183125Z
LAST-MODIFIED:20230422T183125Z
UID:3116-1688169600-1688255999@sv-ocholt-howiek.de
SUMMARY:Schützenfest Ohrwege\, Königsball (mit Bus)
DESCRIPTION:Abfahrt zum Königsball: 19.25 Uhr Doerps Kroog\, 19.30 Uhr Bahnhof
URL:https://sv-ocholt-howiek.de/event/schuetzenfest-ohrwege-koenigsball-mit-bus/
END:VEVENT
BEGIN:VEVENT
DTSTART;VALUE=DATE:20230702
DTEND;VALUE=DATE:20230703
DTSTAMP:20260420T001653
CREATED:20230422T183153Z
LAST-MODIFIED:20230422T183153Z
UID:3118-1688256000-1688342399@sv-ocholt-howiek.de
SUMMARY:Schützenfest Ohrwege\, Festmarsch
DESCRIPTION:
URL:https://sv-ocholt-howiek.de/event/schuetzenfest-ohrwege-festmarsch-5/
END:VEVENT
BEGIN:VEVENT
DTSTART;VALUE=DATE:20230715
DTEND;VALUE=DATE:20230716
DTSTAMP:20260420T001653
CREATED:20230525T142024Z
LAST-MODIFIED:20230525T142053Z
UID:3142-1689379200-1689465599@sv-ocholt-howiek.de
SUMMARY:Schützenfest Scheps\, Königsballball
DESCRIPTION:
URL:https://sv-ocholt-howiek.de/event/schuetzenball-scheps/
END:VEVENT
BEGIN:VEVENT
DTSTART;VALUE=DATE:20230716
DTEND;VALUE=DATE:20230717
DTSTAMP:20260420T001653
CREATED:20230525T142114Z
LAST-MODIFIED:20230525T142114Z
UID:3145-1689465600-1689551999@sv-ocholt-howiek.de
SUMMARY:Schützenfest Scheps\, Festmarsch
DESCRIPTION:
URL:https://sv-ocholt-howiek.de/event/schuetzenfest-scheps-festmarsch-2/
END:VEVENT
END:VCALENDAR