BEGIN:VCALENDAR
VERSION:2.0
PRODID:-//SV OCHOLT-HOWIEK - ECPv6.15.17//NONSGML v1.0//EN
CALSCALE:GREGORIAN
METHOD:PUBLISH
X-ORIGINAL-URL:https://sv-ocholt-howiek.de
X-WR-CALDESC:Veranstaltungen für SV OCHOLT-HOWIEK
REFRESH-INTERVAL;VALUE=DURATION:PT1H
X-Robots-Tag:noindex
X-PUBLISHED-TTL:PT1H
BEGIN:VTIMEZONE
TZID:Europe/Berlin
BEGIN:DAYLIGHT
TZOFFSETFROM:+0100
TZOFFSETTO:+0200
TZNAME:CEST
DTSTART:20220327T010000
END:DAYLIGHT
BEGIN:STANDARD
TZOFFSETFROM:+0200
TZOFFSETTO:+0100
TZNAME:CET
DTSTART:20221030T010000
END:STANDARD
BEGIN:DAYLIGHT
TZOFFSETFROM:+0100
TZOFFSETTO:+0200
TZNAME:CEST
DTSTART:20230326T010000
END:DAYLIGHT
BEGIN:STANDARD
TZOFFSETFROM:+0200
TZOFFSETTO:+0100
TZNAME:CET
DTSTART:20231029T010000
END:STANDARD
BEGIN:DAYLIGHT
TZOFFSETFROM:+0100
TZOFFSETTO:+0200
TZNAME:CEST
DTSTART:20240331T010000
END:DAYLIGHT
BEGIN:STANDARD
TZOFFSETFROM:+0200
TZOFFSETTO:+0100
TZNAME:CET
DTSTART:20241027T010000
END:STANDARD
END:VTIMEZONE
BEGIN:VEVENT
DTSTART;TZID=Europe/Berlin:20230406T190000
DTEND;TZID=Europe/Berlin:20230406T190000
DTSTAMP:20260420T045928
CREATED:20230302T172716Z
LAST-MODIFIED:20230302T172924Z
UID:3046-1680807600-1680807600@sv-ocholt-howiek.de
SUMMARY:Vereinsabend Gründonnerstag (50L Freibier)
DESCRIPTION:Anmeldungen bitte bei Brigitte Krüger oder über Teilnahmeliste im Schießstand
URL:https://sv-ocholt-howiek.de/event/vereinsabend-gruendonnerstag-50l-freibier/
END:VEVENT
END:VCALENDAR