BEGIN:VCALENDAR
VERSION:2.0
PRODID:-//SV OCHOLT-HOWIEK - ECPv6.15.17//NONSGML v1.0//EN
CALSCALE:GREGORIAN
METHOD:PUBLISH
X-WR-CALNAME:SV OCHOLT-HOWIEK
X-ORIGINAL-URL:https://sv-ocholt-howiek.de
X-WR-CALDESC:Veranstaltungen für SV OCHOLT-HOWIEK
REFRESH-INTERVAL;VALUE=DURATION:PT1H
X-Robots-Tag:noindex
X-PUBLISHED-TTL:PT1H
BEGIN:VTIMEZONE
TZID:Europe/Berlin
BEGIN:DAYLIGHT
TZOFFSETFROM:+0100
TZOFFSETTO:+0200
TZNAME:CEST
DTSTART:20220327T010000
END:DAYLIGHT
BEGIN:STANDARD
TZOFFSETFROM:+0200
TZOFFSETTO:+0100
TZNAME:CET
DTSTART:20221030T010000
END:STANDARD
BEGIN:DAYLIGHT
TZOFFSETFROM:+0100
TZOFFSETTO:+0200
TZNAME:CEST
DTSTART:20230326T010000
END:DAYLIGHT
BEGIN:STANDARD
TZOFFSETFROM:+0200
TZOFFSETTO:+0100
TZNAME:CET
DTSTART:20231029T010000
END:STANDARD
BEGIN:DAYLIGHT
TZOFFSETFROM:+0100
TZOFFSETTO:+0200
TZNAME:CEST
DTSTART:20240331T010000
END:DAYLIGHT
BEGIN:STANDARD
TZOFFSETFROM:+0200
TZOFFSETTO:+0100
TZNAME:CET
DTSTART:20241027T010000
END:STANDARD
END:VTIMEZONE
BEGIN:VEVENT
DTSTART;VALUE=DATE:20230304
DTEND;VALUE=DATE:20230305
DTSTAMP:20260420T063932
CREATED:20230216T181820Z
LAST-MODIFIED:20230216T181820Z
UID:2998-1677888000-1677974399@sv-ocholt-howiek.de
SUMMARY:Bundesschießen (Jugend) in Edewecht
DESCRIPTION:
URL:https://sv-ocholt-howiek.de/event/bundesschiessen-jugend-in-edewecht/
LOCATION:Edewecht Breeweghalle\, Breeweg 42\, Edewecht\, 26188\, Deutschland
END:VEVENT
BEGIN:VEVENT
DTSTART;VALUE=DATE:20230305
DTEND;VALUE=DATE:20230306
DTSTAMP:20260420T063932
CREATED:20230216T181849Z
LAST-MODIFIED:20230216T181849Z
UID:3000-1677974400-1678060799@sv-ocholt-howiek.de
SUMMARY:Bundesschießen (Erwachsene) in Edewecht
DESCRIPTION:
URL:https://sv-ocholt-howiek.de/event/bundesschiessen-erwachsene-in-edewecht/
LOCATION:Edewecht Breeweghalle\, Breeweg 42\, Edewecht\, 26188\, Deutschland
END:VEVENT
BEGIN:VEVENT
DTSTART;VALUE=DATE:20230311
DTEND;VALUE=DATE:20230312
DTSTAMP:20260420T063932
CREATED:20230216T181923Z
LAST-MODIFIED:20230216T181923Z
UID:3002-1678492800-1678579199@sv-ocholt-howiek.de
SUMMARY:ASB-Ball in Scheps
DESCRIPTION:
URL:https://sv-ocholt-howiek.de/event/asb-ball-in-scheps/
LOCATION:Nemeyer Scheps\, Osterschepser Straße 4\, Edewecht\, 26188
END:VEVENT
BEGIN:VEVENT
DTSTART;TZID=Europe/Berlin:20230317T190000
DTEND;TZID=Europe/Berlin:20230317T190000
DTSTAMP:20260420T063932
CREATED:20230222T172751Z
LAST-MODIFIED:20230222T172835Z
UID:3028-1679079600-1679079600@sv-ocholt-howiek.de
SUMMARY:Skat-Abend (Mit Anmeldung\, siehe Details)
DESCRIPTION:…in der Schießhalle \nAnmeldungen bei Rainer Radtke (0160-97455434 oder rainer.radtke@ewetel.net) \nStartgeld 12\,-€ /  Jeder gewinnt einen Preis
URL:https://sv-ocholt-howiek.de/event/skat-abend-mit-anmeldung-siehe-details/
LOCATION:Schießhalle in Howiek\, Howieker Ring 43 a\, Ocholt-Howiek\, 26655\, Deutschland
END:VEVENT
BEGIN:VEVENT
DTSTART;TZID=Europe/Berlin:20230318T140000
DTEND;TZID=Europe/Berlin:20230318T140000
DTSTAMP:20260420T063932
CREATED:20230216T182039Z
LAST-MODIFIED:20230302T172538Z
UID:3004-1679148000-1679148000@sv-ocholt-howiek.de
SUMMARY:OSB - Deligiertentagung
DESCRIPTION:Anmeldungen bitte über Karl Schnittker 04409/356
URL:https://sv-ocholt-howiek.de/event/osb-deligiertentagung/
END:VEVENT
BEGIN:VEVENT
DTSTART;VALUE=DATE:20230322
DTEND;VALUE=DATE:20230323
DTSTAMP:20260420T063932
CREATED:20230205T104055Z
LAST-MODIFIED:20230205T104135Z
UID:2954-1679443200-1679529599@sv-ocholt-howiek.de
SUMMARY:RWK-Endkampf Damen Auflage
DESCRIPTION:3er RWK-Endkampf der Auflage Damen. \nDie 10 besten Mannschaften treten gegeneinander an. \nKontaktaufnahme bitte über die Damensportleitung Dorothea Adler 04950 / 1436
URL:https://sv-ocholt-howiek.de/event/rwk-endkampf-damen-auflage/
LOCATION:Schießhalle in Howiek\, Howieker Ring 43 a\, Ocholt-Howiek\, 26655\, Deutschland
END:VEVENT
BEGIN:VEVENT
DTSTART;TZID=Europe/Berlin:20230326T110000
DTEND;TZID=Europe/Berlin:20230326T153000
DTSTAMP:20260420T063932
CREATED:20230216T182243Z
LAST-MODIFIED:20230302T172753Z
UID:3008-1679828400-1679844600@sv-ocholt-howiek.de
SUMMARY:Vereinschießen (Angrillen/Abgrogen/Oldenburger Bedingungen)
DESCRIPTION:Oldenburger Bedingungen werden angeboten
URL:https://sv-ocholt-howiek.de/event/vereinschiessen-angrillen-abgrogen/
LOCATION:Schießhalle in Howiek\, Howieker Ring 43 a\, Ocholt-Howiek\, 26655\, Deutschland
END:VEVENT
END:VCALENDAR