BEGIN:VCALENDAR
VERSION:2.0
PRODID:-//SV OCHOLT-HOWIEK - ECPv6.15.17//NONSGML v1.0//EN
CALSCALE:GREGORIAN
METHOD:PUBLISH
X-WR-CALNAME:SV OCHOLT-HOWIEK
X-ORIGINAL-URL:https://sv-ocholt-howiek.de
X-WR-CALDESC:Veranstaltungen für SV OCHOLT-HOWIEK
REFRESH-INTERVAL;VALUE=DURATION:PT1H
X-Robots-Tag:noindex
X-PUBLISHED-TTL:PT1H
BEGIN:VTIMEZONE
TZID:Europe/Berlin
BEGIN:DAYLIGHT
TZOFFSETFROM:+0100
TZOFFSETTO:+0200
TZNAME:CEST
DTSTART:20210328T010000
END:DAYLIGHT
BEGIN:STANDARD
TZOFFSETFROM:+0200
TZOFFSETTO:+0100
TZNAME:CET
DTSTART:20211031T010000
END:STANDARD
BEGIN:DAYLIGHT
TZOFFSETFROM:+0100
TZOFFSETTO:+0200
TZNAME:CEST
DTSTART:20220327T010000
END:DAYLIGHT
BEGIN:STANDARD
TZOFFSETFROM:+0200
TZOFFSETTO:+0100
TZNAME:CET
DTSTART:20221030T010000
END:STANDARD
BEGIN:DAYLIGHT
TZOFFSETFROM:+0100
TZOFFSETTO:+0200
TZNAME:CEST
DTSTART:20230326T010000
END:DAYLIGHT
BEGIN:STANDARD
TZOFFSETFROM:+0200
TZOFFSETTO:+0100
TZNAME:CET
DTSTART:20231029T010000
END:STANDARD
END:VTIMEZONE
BEGIN:VEVENT
DTSTART;TZID=Europe/Berlin:20221005T193000
DTEND;TZID=Europe/Berlin:20221005T193000
DTSTAMP:20260422T102423
CREATED:20220323T170205Z
LAST-MODIFIED:20220502T144252Z
UID:2775-1664998200-1664998200@sv-ocholt-howiek.de
SUMMARY:erweiterte Vorstandssitzung
DESCRIPTION:Alle Vereinsmitglieder sind herzlich Willkommen!
URL:https://sv-ocholt-howiek.de/event/erweiterte-vorstandssitzung-24/
LOCATION:Schießhalle in Howiek\, Howieker Ring 43 a\, Ocholt-Howiek\, 26655\, Deutschland
END:VEVENT
BEGIN:VEVENT
DTSTART;TZID=Europe/Berlin:20221030T110000
DTEND;TZID=Europe/Berlin:20221030T110000
DTSTAMP:20260422T102423
CREATED:20221003T180655Z
LAST-MODIFIED:20221003T180655Z
UID:2900-1667127600-1667127600@sv-ocholt-howiek.de
SUMMARY:Königinnen Frühschoppen
DESCRIPTION:
URL:https://sv-ocholt-howiek.de/event/koeniginnen-fruehschoppen-2/
LOCATION:Schießhalle in Howiek\, Howieker Ring 43 a\, Ocholt-Howiek\, 26655\, Deutschland
END:VEVENT
END:VCALENDAR